| XhybCasneuf 1.0.6 Tineke Casneuf
 
 | Snapshot Date: 2011-02-27 12:29:13 -0800 (Sun, 27 Feb 2011) |  | URL: https://hedgehog.fhcrc.org/bioc-data/trunk/experiment/pkgs/XhybCasneuf |  | Last Changed Rev: 986 / Revision: 1436 |  | Last Changed Date: 2009-09-15 12:41:50 -0700 (Tue, 15 Sep 2009) | 
 | lamb2 | Linux (openSUSE 11.2) / x86_64 | OK | OK |  | 
| gewurz | Windows Server 2008 R2 Enterprise (64-bit) / x64 | OK | OK | OK | 
| pelham | Mac OS X Leopard (10.5.8) / i386 | [ OK ] | OK | OK | 
* checking for file ‘XhybCasneuf/DESCRIPTION’ ... OK
* preparing ‘XhybCasneuf’:
* checking DESCRIPTION meta-information ... OK
* checking whether ‘INDEX’ is up-to-date ... NO
* use '--force' to remove the existing ‘INDEX’
* installing the package to re-build vignettes
* creating vignettes ... OK
* checking for LF line-endings in source and make files
* checking for empty or unneeded directories
* building ‘XhybCasneuf_1.0.6.tar.gz’