yeastCC 1.2.12 Sandrine Dudoit
 | Snapshot Date: 2011-04-06 12:27:26 -0700 (Wed, 06 Apr 2011) |  | URL: https://hedgehog.fhcrc.org/bioc-data/trunk/experiment/pkgs/yeastCC |  | Last Changed Rev: 1357 / Revision: 1510 |  | Last Changed Date: 2010-10-14 09:39:32 -0700 (Thu, 14 Oct 2010) |  
  | lamb2  | Linux (openSUSE 11.2) / x86_64  |  OK  |  OK  |  | 
| gewurz  | Windows Server 2008 R2 Enterprise (64-bit) / x64  | [ OK ] |  OK  |  OK  | 
| petty  | Mac OS X Snow Leopard (10.6.6) / i386  |  OK  |  OK  |  OK  | 
Warning: unknown option '--keep-empty-dirs'
* checking for file 'yeastCC/DESCRIPTION' ... OK
* preparing 'yeastCC':
* checking DESCRIPTION meta-information ... OK
* checking whether 'INDEX' is up-to-date ... NO
* use '--force' to remove the existing 'INDEX'
* checking for LF line-endings in source and make files
* checking for empty or unneeded directories
* building 'yeastCC_1.2.12.tar.gz'