| Back to the "Multiple platform build/check report" |
| Package 67/84 | Hostname | OS / Arch | BUILD | CHECK | BUILD BIN | ||||
| mvoutData 0.99.4 VJ Carey
| lamb2 | Linux (openSUSE 11.2) / x86_64 | OK | OK | |||||
| liverpool | Windows Server 2003 R2 (32-bit) / x64 | [ OK ] | OK | OK | |||||
| pelham | Mac OS X Leopard (10.5.8) / i386 | OK | OK | OK |
| Package: mvoutData |
| Version: 0.99.4 |
| Command: chmod a+r mvoutData -R && E:\biocbld\bbs-2.7-bioc\R\bin\R.exe CMD build mvoutData |
| StartedAt: 2010-11-11 15:06:52 -0800 (Thu, 11 Nov 2010) |
| EndedAt: 2010-11-11 15:06:57 -0800 (Thu, 11 Nov 2010) |
| EllapsedTime: 4.5 seconds |
| RetCode: 0 |
| Status: OK |
| PackageFile: mvoutData_0.99.4.tar.gz |
| PackageFileSize: 14.18 MiB |
* checking for file 'mvoutData/DESCRIPTION' ... OK * preparing 'mvoutData': * checking DESCRIPTION meta-information ... OK * checking for LF line-endings in source and make files * checking for empty or unneeded directories * building 'mvoutData_0.99.4.tar.gz'