| Back to the "Multiple platform build/check report" |
| Package 51/84 | Hostname | OS / Arch | BUILD | CHECK | BUILD BIN | ||||
| humanStemCell 0.2.3 R. Gentleman
| lamb2 | Linux (openSUSE 11.2) / x86_64 | OK | OK | |||||
| liverpool | Windows Server 2003 R2 (32-bit) / x64 | [ OK ] | OK | OK | |||||
| pelham | Mac OS X Leopard (10.5.8) / i386 | OK | OK | OK |
| Package: humanStemCell |
| Version: 0.2.3 |
| Command: chmod a+r humanStemCell -R && E:\biocbld\bbs-2.7-bioc\R\bin\R.exe CMD build humanStemCell |
| StartedAt: 2010-11-11 15:06:10 -0800 (Thu, 11 Nov 2010) |
| EndedAt: 2010-11-11 15:07:41 -0800 (Thu, 11 Nov 2010) |
| EllapsedTime: 90.8 seconds |
| RetCode: 0 |
| Status: OK |
| PackageFile: humanStemCell_0.2.3.tar.gz |
| PackageFileSize: 30.84 MiB |
* checking for file 'humanStemCell/DESCRIPTION' ... OK * preparing 'humanStemCell': * checking DESCRIPTION meta-information ... OK * checking for LF line-endings in source and make files * checking for empty or unneeded directories * building 'humanStemCell_0.2.3.tar.gz'