| hmyriB36 0.99.5 Vincent Carey
 
 | Snapshot Date: 2010-11-11 12:27:34 -0800 (Thu, 11 Nov 2010) |  | URL: https://hedgehog.fhcrc.org/bioc-data/trunk/experiment/pkgs/hmyriB36 |  | Last Changed Rev: 1343 / Revision: 1384 |  | Last Changed Date: 2010-10-13 18:23:01 -0700 (Wed, 13 Oct 2010) | 
 | lamb2 | Linux (openSUSE 11.2) / x86_64 | OK | WARNINGS |  | 
| liverpool | Windows Server 2003 R2 (32-bit) / x64 | [ OK ] | WARNINGS | OK | 
| pelham | Mac OS X Leopard (10.5.8) / i386 | OK | WARNINGS | OK | 
* checking for file 'hmyriB36/DESCRIPTION' ... OK
* preparing 'hmyriB36':
* checking DESCRIPTION meta-information ... OK
* checking for LF line-endings in source and make files
* checking for empty or unneeded directories
WARNING: directory 'hmyriB36/inst/extdata' is empty
* building 'hmyriB36_0.99.5.tar.gz'