| Back to the "Multiple platform build/check report" | 
| Package 47/84 | Hostname | OS / Arch | BUILD | CHECK | BUILD BIN | ||||
| hgu133plus2frmavecs 1.0.3 Matthew N. McCall 
 | lamb2 | Linux (openSUSE 11.2) / x86_64 | OK | OK | |||||
| liverpool | Windows Server 2003 R2 (32-bit) / x64 | [ OK ] | OK | OK | |||||
| pelham | Mac OS X Leopard (10.5.8) / i386 | OK | OK | OK | 
| Package: hgu133plus2frmavecs | 
| Version: 1.0.3 | 
| Command: chmod a+r hgu133plus2frmavecs -R && E:\biocbld\bbs-2.7-bioc\R\bin\R.exe CMD build hgu133plus2frmavecs | 
| StartedAt: 2010-11-11 15:10:51 -0800 (Thu, 11 Nov 2010) | 
| EndedAt: 2010-11-11 15:10:56 -0800 (Thu, 11 Nov 2010) | 
| EllapsedTime: 5.5 seconds | 
| RetCode: 0 | 
| Status: OK | 
| PackageFile: hgu133plus2frmavecs_1.0.3.tar.gz | 
| PackageFileSize: 16.06 MiB | 
* checking for file 'hgu133plus2frmavecs/DESCRIPTION' ... OK * preparing 'hgu133plus2frmavecs': * checking DESCRIPTION meta-information ... OK * checking for LF line-endings in source and make files * checking for empty or unneeded directories * building 'hgu133plus2frmavecs_1.0.3.tar.gz'