| Back to the "Multiple platform build/check report" |
| Package 40/92 | Hostname | OS / Arch | BUILD | CHECK | BUILD BIN | ||||
| golubEsets 1.4.7 Vince Carey
| lamb2 | Linux (openSUSE 11.2) / x86_64 | OK | OK | |||||
| gewurz | Windows Server 2008 R2 Enterprise (64-bit) / x64 | OK | OK | [ OK ] | |||||
| petty | Mac OS X Snow Leopard (10.6.6) / i386 | OK | OK | OK |
| Package: golubEsets |
| Version: 1.4.7 |
| Command: D:\biocbld\bbs-2.7-bioc\R\bin\R.exe CMD INSTALL --build --library=golubEsets.buildbin-libdir golubEsets_1.4.7.tar.gz |
| StartedAt: 2011-04-06 17:07:08 -0700 (Wed, 06 Apr 2011) |
| EndedAt: 2011-04-06 17:07:16 -0700 (Wed, 06 Apr 2011) |
| EllapsedTime: 7.5 seconds |
| RetCode: 0 |
| Status: OK |
| PackageFile: golubEsets_1.4.7.zip |
| PackageFileSize: 8.008 MiB |
* installing *source* package 'golubEsets' ... ** data ** help *** installing help indices ** building package indices ... ** testing if installed package can be loaded * MD5 sums packaged installation of 'golubEsets' as golubEsets_1.4.7.zip * DONE (golubEsets)