| Back to the "Multiple platform build/check report" |
| Package 36/92 | Hostname | OS / Arch | BUILD | CHECK | BUILD BIN | ||||
| gatingMLData 1.0.2 Nishant Gopalakrishnan
| lamb2 | Linux (openSUSE 11.2) / x86_64 | [ OK ] | OK | |||||
| gewurz | Windows Server 2008 R2 Enterprise (64-bit) / x64 | OK | OK | OK | |||||
| petty | Mac OS X Snow Leopard (10.6.6) / i386 | OK | OK | OK |
| Package: gatingMLData |
| Version: 1.0.2 |
| Command: /home/biocbuild/bbs-2.7-bioc/R/bin/R CMD build gatingMLData |
| StartedAt: 2011-04-06 13:41:49 -0700 (Wed, 06 Apr 2011) |
| EndedAt: 2011-04-06 13:41:54 -0700 (Wed, 06 Apr 2011) |
| EllapsedTime: 5.5 seconds |
| RetCode: 0 |
| Status: OK |
| PackageFile: gatingMLData_1.0.2.tar.gz |
| PackageFileSize: 1.787 MiB |
* checking for file ‘gatingMLData/DESCRIPTION’ ... OK * preparing ‘gatingMLData’: * checking DESCRIPTION meta-information ... OK * checking for LF line-endings in source and make files * checking for empty or unneeded directories * building ‘gatingMLData_1.0.2.tar.gz’