| Back to the "Multiple platform build/check report" |
| Package 26/82 | Hostname | OS / Arch | BUILD | CHECK | BUILD BIN | ||||
| frmaExampleData 0.99.0 Matthew N. McCall
| lamb2 | Linux (openSUSE 11.2) / x86_64 | OK | OK | |||||
| gewurz | Windows Server 2008 R2 Enterprise (64-bit) / x64 | OK | OK | OK | |||||
| pelham | Mac OS X Leopard (10.5.8) / i386 | [ OK ] | OK | OK |
| Package: frmaExampleData |
| Version: 0.99.0 |
| Command: /Library/Frameworks/R.framework/Versions/2.12/Resources/bin/R CMD build frmaExampleData |
| StartedAt: 2011-02-27 14:18:55 -0800 (Sun, 27 Feb 2011) |
| EndedAt: 2011-02-27 14:19:03 -0800 (Sun, 27 Feb 2011) |
| EllapsedTime: 8.8 seconds |
| RetCode: 0 |
| Status: OK |
| PackageFile: frmaExampleData_0.99.0.tar.gz |
| PackageFileSize: 15.88 MiB |
* checking for file ‘frmaExampleData/DESCRIPTION’ ... OK * preparing ‘frmaExampleData’: * checking DESCRIPTION meta-information ... OK * checking for LF line-endings in source and make files * checking for empty or unneeded directories * building ‘frmaExampleData_0.99.0.tar.gz’