| Back to the "Multiple platform build/check report" |
| Package 30/92 | Hostname | OS / Arch | BUILD | CHECK | BUILD BIN | ||||
| faahKO 1.2.5 Colin A. Smith
| lamb2 | Linux (openSUSE 11.2) / x86_64 | OK | WARNINGS | |||||
| gewurz | Windows Server 2008 R2 Enterprise (64-bit) / x64 | OK | WARNINGS | OK | |||||
| petty | Mac OS X Snow Leopard (10.6.6) / i386 | [ OK ] | WARNINGS | OK |
| Package: faahKO |
| Version: 1.2.5 |
| Command: /Library/Frameworks/R.framework/Versions/2.12/Resources/bin/R CMD build --keep-empty-dirs faahKO |
| StartedAt: 2011-04-06 13:50:36 -0700 (Wed, 06 Apr 2011) |
| EndedAt: 2011-04-06 13:52:10 -0700 (Wed, 06 Apr 2011) |
| EllapsedTime: 94.1 seconds |
| RetCode: 0 |
| Status: OK |
| PackageFile: faahKO_1.2.5.tar.gz |
| PackageFileSize: 15.59 MiB |
Warning: unknown option '--keep-empty-dirs' * checking for file 'faahKO/DESCRIPTION' ... OK * preparing 'faahKO': * checking DESCRIPTION meta-information ... OK * checking for LF line-endings in source and make files * checking for empty or unneeded directories * building 'faahKO_1.2.5.tar.gz'