| Back to the "Multiple platform build/check report" |
| Package 20/84 | Hostname | OS / Arch | BUILD | CHECK | BUILD BIN | ||||
| ecoliLeucine 1.2.5 Laurent Gautier
| lamb2 | Linux (openSUSE 11.2) / x86_64 | OK | OK | |||||
| liverpool | Windows Server 2003 R2 (32-bit) / x64 | [ OK ] | OK | OK | |||||
| pelham | Mac OS X Leopard (10.5.8) / i386 | OK | OK | OK |
| Package: ecoliLeucine |
| Version: 1.2.5 |
| Command: chmod a+r ecoliLeucine -R && E:\biocbld\bbs-2.7-bioc\R\bin\R.exe CMD build ecoliLeucine |
| StartedAt: 2010-11-11 14:29:35 -0800 (Thu, 11 Nov 2010) |
| EndedAt: 2010-11-11 14:29:41 -0800 (Thu, 11 Nov 2010) |
| EllapsedTime: 5.5 seconds |
| RetCode: 0 |
| Status: OK |
| PackageFile: ecoliLeucine_1.2.5.tar.gz |
| PackageFileSize: 5.936 MiB |
* checking for file 'ecoliLeucine/DESCRIPTION' ... OK * preparing 'ecoliLeucine': * checking DESCRIPTION meta-information ... OK * checking for LF line-endings in source and make files * checking for empty or unneeded directories * building 'ecoliLeucine_1.2.5.tar.gz'