| Back to the "Multiple platform build/check report" |
| Package 25/92 | Hostname | OS / Arch | BUILD | CHECK | BUILD BIN | ||||
| dyebiasexamples 1.0.6 Philip Lijnzaad
| lamb2 | Linux (openSUSE 11.2) / x86_64 | [ OK ] | OK | |||||
| gewurz | Windows Server 2008 R2 Enterprise (64-bit) / x64 | OK | OK | OK | |||||
| petty | Mac OS X Snow Leopard (10.6.6) / i386 | OK | OK | OK |
| Package: dyebiasexamples |
| Version: 1.0.6 |
| Command: /home/biocbuild/bbs-2.7-bioc/R/bin/R CMD build dyebiasexamples |
| StartedAt: 2011-04-06 13:57:58 -0700 (Wed, 06 Apr 2011) |
| EndedAt: 2011-04-06 13:58:04 -0700 (Wed, 06 Apr 2011) |
| EllapsedTime: 6.5 seconds |
| RetCode: 0 |
| Status: OK |
| PackageFile: dyebiasexamples_1.0.6.tar.gz |
| PackageFileSize: 15.2 MiB |
* checking for file ‘dyebiasexamples/DESCRIPTION’ ... OK * preparing ‘dyebiasexamples’: * checking DESCRIPTION meta-information ... OK * checking for LF line-endings in source and make files * checking for empty or unneeded directories * building ‘dyebiasexamples_1.0.6.tar.gz’