ceu1kg 0.0.15 VJ Carey
 | Snapshot Date: 2010-11-09 12:27:44 -0800 (Tue, 09 Nov 2010) |  | URL: https://hedgehog.fhcrc.org/bioc-data/trunk/experiment/pkgs/ceu1kg |  | Last Changed Rev: 1369 / Revision: 1379 |  | Last Changed Date: 2010-10-16 18:21:50 -0700 (Sat, 16 Oct 2010) |  
  | lamb2  | Linux (openSUSE 11.2) / x86_64  |  OK  |  OK  |  | 
| liverpool  | Windows Server 2003 R2 (32-bit) / x64  |  OK  |  ERROR  | [ OK ] | 
| pelham  | Mac OS X Leopard (10.5.8) / i386  |  OK  |  TIMEOUT  |  OK  | 
* installing *source* package 'ceu1kg' ...
  Using auto-selected zip option '--use-zip-data'
** data
** inst
** help
*** installing help indices
** building package indices ...
Loading required package: Biobase
Welcome to Bioconductor
  Vignettes contain introductory material. To view, type
  'openVignette()'. To cite Bioconductor, see
  'citation("Biobase")' and for packages 'citation(pkgname)'.
** testing if installed package can be loaded
* MD5 sums
packaged installation of 'ceu1kg' as ceu1kg_0.0.15.zip
* DONE (ceu1kg)