| Back to the "Multiple platform build/check report" |
| Package 63/84 | Hostname | OS / Arch | BUILD | CHECK | BUILD BIN | ||||
| MEEBOdata 1.0.0 Agnes Paquet
| lamb2 | Linux (openSUSE 11.2) / x86_64 | OK | OK | |||||
| liverpool | Windows Server 2003 R2 (32-bit) / x64 | [ OK ] | OK | OK | |||||
| pelham | Mac OS X Leopard (10.5.8) / i386 | OK | OK | OK |
| Package: MEEBOdata |
| Version: 1.0.0 |
| Command: chmod a+r MEEBOdata -R && E:\biocbld\bbs-2.7-bioc\R\bin\R.exe CMD build MEEBOdata |
| StartedAt: 2010-11-11 14:38:30 -0800 (Thu, 11 Nov 2010) |
| EndedAt: 2010-11-11 14:38:43 -0800 (Thu, 11 Nov 2010) |
| EllapsedTime: 12.5 seconds |
| RetCode: 0 |
| Status: OK |
| PackageFile: MEEBOdata_1.0.0.tar.gz |
| PackageFileSize: 6.867 MiB |
* checking for file 'MEEBOdata/DESCRIPTION' ... OK * preparing 'MEEBOdata': * checking DESCRIPTION meta-information ... OK * checking for LF line-endings in source and make files * checking for empty or unneeded directories * building 'MEEBOdata_1.0.0.tar.gz'