| Back to the "Multiple platform build/check report" |
| Package 26/92 | Hostname | OS / Arch | BUILD | CHECK | BUILD BIN | ||||
| EatonEtAlChIPseq 0.0.1 Patrick Aboyoun
| lamb2 | Linux (openSUSE 11.2) / x86_64 | OK | OK | |||||
| gewurz | Windows Server 2008 R2 Enterprise (64-bit) / x64 | OK | OK | [ OK ] | |||||
| petty | Mac OS X Snow Leopard (10.6.6) / i386 | OK | OK | OK |
| Package: EatonEtAlChIPseq |
| Version: 0.0.1 |
| Command: D:\biocbld\bbs-2.7-bioc\R\bin\R.exe CMD INSTALL --build --library=EatonEtAlChIPseq.buildbin-libdir EatonEtAlChIPseq_0.0.1.tar.gz |
| StartedAt: 2011-04-06 17:02:31 -0700 (Wed, 06 Apr 2011) |
| EndedAt: 2011-04-06 17:03:10 -0700 (Wed, 06 Apr 2011) |
| EllapsedTime: 39.0 seconds |
| RetCode: 0 |
| Status: OK |
| PackageFile: EatonEtAlChIPseq_0.0.1.zip |
| PackageFileSize: 20.51 MiB |
* installing *source* package 'EatonEtAlChIPseq' ... ** data ** inst ** help *** installing help indices ** building package indices ... ** testing if installed package can be loaded * MD5 sums packaged installation of 'EatonEtAlChIPseq' as EatonEtAlChIPseq_0.0.1.zip * DONE (EatonEtAlChIPseq)