| Back to the "Multiple platform build/check report" |
| Package 23/92 | Hostname | OS / Arch | BUILD | CHECK | BUILD BIN | ||||
| DLBCL 1.3.1 Marcus Dittrich
| lamb2 | Linux (openSUSE 11.2) / x86_64 | OK | OK | |||||
| gewurz | Windows Server 2008 R2 Enterprise (64-bit) / x64 | OK | OK | OK | |||||
| petty | Mac OS X Snow Leopard (10.6.6) / i386 | OK | OK | [ OK ] |
| Package: DLBCL |
| Version: 1.3.1 |
| Command: /Users/biocbuild/BBS/utils/build-universal.sh DLBCL_1.3.1.tar.gz /Library/Frameworks/R.framework/Versions/2.12/Resources/bin/R DLBCL.buildbin-libdir |
| StartedAt: 2011-04-06 14:28:15 -0700 (Wed, 06 Apr 2011) |
| EndedAt: 2011-04-06 14:28:23 -0700 (Wed, 06 Apr 2011) |
| EllapsedTime: 8.2 seconds |
| RetCode: 0 |
| Status: OK |
| PackageFile: DLBCL_1.3.1.tgz |
| PackageFileSize: 5.533 MiB |
>>>>>>> >>>>>>> INSTALLATION WITH 'R CMD INSTALL --preclean --library=DLBCL.buildbin-libdir DLBCL_1.3.1.tar.gz' >>>>>>> * installing *source* package 'DLBCL' ... ** data ** help *** installing help indices ** building package indices ... ** testing if installed package can be loaded * DONE (DLBCL)