rMAT 3.0.0 Arnaud Droit  and Raphael Gottardo
 | Snapshot Date: 2011-03-30 23:22:56 -0700 (Wed, 30 Mar 2011) |  | URL: https://hedgehog.fhcrc.org/bioconductor/branches/RELEASE_2_7/madman/Rpacks/rMAT |  | Last Changed Rev: 50293 / Revision: 54281 |  | Last Changed Date: 2010-10-17 22:34:23 -0700 (Sun, 17 Oct 2010) |  
  | lamb2  | Linux (openSUSE 11.2) / x86_64  |  OK  |  OK  |  | 
| liverpool  | Windows Server 2003 R2 (32-bit) / x64  |  OK  |  OK  |  OK  | 
| gewurz  | Windows Server 2008 R2 Enterprise (64-bit) / x64  |  OK  |  OK  |  OK  | 
| pelham  | Mac OS X Leopard (10.5.8) / i386  | [ OK ] |  OK  |  OK  | 
Warning: unknown option ‘--keep-empty-dirs’
* checking for file ‘rMAT/DESCRIPTION’ ... OK
* preparing ‘rMAT’:
* checking DESCRIPTION meta-information ... OK
* cleaning src
* running cleanup
* installing the package to re-build vignettes
* creating vignettes ... OK
* cleaning src
* running cleanup
* checking for LF line-endings in source and make files
* checking for empty or unneeded directories
* building ‘rMAT_3.0.0.tar.gz’