ppiStats 1.16.0 Tony Chiang
 | Snapshot Date: 2011-04-06 23:24:01 -0700 (Wed, 06 Apr 2011) |  | URL: https://hedgehog.fhcrc.org/bioconductor/branches/RELEASE_2_7/madman/Rpacks/ppiStats |  | Last Changed Rev: 50293 / Revision: 54588 |  | Last Changed Date: 2010-10-17 22:34:23 -0700 (Sun, 17 Oct 2010) |  
  | lamb2  | Linux (openSUSE 11.2) / x86_64  |  OK  |  OK  |  | 
| liverpool  | Windows Server 2003 R2 (32-bit) / x64  |  OK  |  OK  | [ OK ] | 
| gewurz  | Windows Server 2008 R2 Enterprise (64-bit) / x64  |  OK  |  OK  |  OK  | 
* installing *source* package 'ppiStats' ...
** R
** inst
** preparing package for lazy loading
Loading required package: GO.db
Loading required package: AnnotationDbi
Loading required package: Biobase
Welcome to Bioconductor
  Vignettes contain introductory material. To view, type
  'openVignette()'. To cite Bioconductor, see
  'citation("Biobase")' and for packages 'citation(pkgname)'.
Loading required package: DBI
Loading required package: RpsiXML
Loading required package: annotate
Loading required package: graph
Loading required package: RBGL
Loading required package: XML
Attaching package: 'XML'
The following object(s) are masked from 'package:graph':
    addNode
Loading required package: hypergraph
Attaching package: 'hypergraph'
The following object(s) are masked from 'package:AnnotationDbi':
    head, tail
The following object(s) are masked from 'package:utils':
    head, tail
Loading required package: apComplex
** help
*** installing help indices
** building package indices ...
** testing if installed package can be loaded
* MD5 sums
packaged installation of 'ppiStats' as ppiStats_1.16.0.zip
* DONE (ppiStats)