| oligoClasses 1.12.2 Benilton Carvalho  and Robert Scharpf
 
 | Snapshot Date: 2011-04-06 23:24:01 -0700 (Wed, 06 Apr 2011) |  | URL: https://hedgehog.fhcrc.org/bioconductor/branches/RELEASE_2_7/madman/Rpacks/oligoClasses |  | Last Changed Rev: 51940 / Revision: 54588 |  | Last Changed Date: 2011-01-16 12:00:12 -0800 (Sun, 16 Jan 2011) | 
 | lamb2 | Linux (openSUSE 11.2) / x86_64 | OK | OK |  | 
| liverpool | Windows Server 2003 R2 (32-bit) / x64 | OK | OK | OK | 
| gewurz | Windows Server 2008 R2 Enterprise (64-bit) / x64 | OK | OK | [ OK ] | 
* installing *source* package 'oligoClasses' ...
** R
** data
** inst
** preparing package for lazy loading
Welcome to Bioconductor
  Vignettes contain introductory material. To view, type
  'openVignette()'. To cite Bioconductor, see
  'citation("Biobase")' and for packages 'citation(pkgname)'.
Creating a new generic function for "close" in "oligoClasses"
Creating a new generic function for "open" in "oligoClasses"
** help
*** installing help indices
** building package indices ...
** testing if installed package can be loaded
================================================================================
Welcome to oligoClasses version 1.12.2
================================================================================
Large dataset support for 'oligo/crlmm': Disabled
     - Load 'ff'
================================================================================
Parallel computing support for 'oligo/crlmm': Disabled
     - Load 'ff'
     - Load 'snow'
     - Use options(cluster=makeCluster(...))
================================================================================
* MD5 sums
packaged installation of 'oligoClasses' as oligoClasses_1.12.2.zip
* DONE (oligoClasses)