| hexbin 1.24.1 Nicholas Lewin-Koh
 
 | Snapshot Date: 2011-04-06 23:24:01 -0700 (Wed, 06 Apr 2011) |  | URL: https://hedgehog.fhcrc.org/bioconductor/branches/RELEASE_2_7/madman/Rpacks/hexbin |  | Last Changed Rev: 51562 / Revision: 54588 |  | Last Changed Date: 2010-12-15 15:15:34 -0800 (Wed, 15 Dec 2010) | 
 | lamb2 | Linux (openSUSE 11.2) / x86_64 | OK | OK |  | 
| liverpool | Windows Server 2003 R2 (32-bit) / x64 | OK | OK | [ OK ] | 
| gewurz | Windows Server 2008 R2 Enterprise (64-bit) / x64 | OK | OK | OK | 
* installing *source* package 'hexbin' ...
  Using auto-selected zip option '--use-zip-data'
** libs
gfortran     -O3  -c hbin.f -o hbin.o
gfortran     -O3  -c hcell.f -o hcell.o
gfortran     -O3  -c herode.f -o herode.o
gfortran     -O3  -c hsm.f -o hsm.o
gcc -shared -s -static-libgcc -o hexbin.dll tmp.def hbin.o hcell.o herode.o hsm.o -lgfortran -LE:/biocbld/bbs-2.7-bioc/R/bin/i386 -lR
installing to E:/biocbld/bbs-2.7-bioc/meat/hexbin.buildbin-libdir/hexbin/libs/i386
** R
** data
** inst
** preparing package for lazy loading
Creating a new generic function for "plot" in "hexbin"
Creating a new generic function for "summary" in "hexbin"
** help
*** installing help indices
** building package indices ...
** testing if installed package can be loaded
* MD5 sums
packaged installation of 'hexbin' as hexbin_1.24.1.zip
* DONE (hexbin)