| Back to the "Multiple platform build/check report" | A B C D E F [G] H I J K L M N O P Q R S T U V W X Y Z | 
| Package 184/419 | Hostname | OS / Arch | BUILD | CHECK | BUILD BIN | ||||
| goseq 1.2.1 Matthew Young 
 | lamb2 | Linux (openSUSE 11.2) / x86_64 | OK | OK | |||||
| liverpool | Windows Server 2003 R2 (32-bit) / x64 | OK | OK | OK | |||||
| gewurz | Windows Server 2008 R2 Enterprise (64-bit) / x64 | OK | OK | [ OK ] | 
| Package: goseq | 
| Version: 1.2.1 | 
| Command: D:\biocbld\bbs-2.7-bioc\R\bin\R.exe CMD INSTALL --build --library=goseq.buildbin-libdir goseq_1.2.1.tar.gz | 
| StartedAt: 2011-04-07 14:07:31 -0700 (Thu, 07 Apr 2011) | 
| EndedAt: 2011-04-07 14:07:47 -0700 (Thu, 07 Apr 2011) | 
| EllapsedTime: 16.2 seconds | 
| RetCode: 0 | 
| Status: OK | 
| PackageFile: goseq_1.2.1.zip | 
| PackageFileSize: 717 KiB | 
* installing *source* package 'goseq' ... ** R ** data ** inst ** preparing package for lazy loading ** help *** installing help indices ** building package indices ... ** testing if installed package can be loaded * MD5 sums packaged installation of 'goseq' as goseq_1.2.1.zip * DONE (goseq)