| flowMeans 1.2.0 Nima Aghaeepour
 
 | Snapshot Date: 2011-04-06 23:24:01 -0700 (Wed, 06 Apr 2011) |  | URL: https://hedgehog.fhcrc.org/bioconductor/branches/RELEASE_2_7/madman/Rpacks/flowMeans |  | Last Changed Rev: 50293 / Revision: 54588 |  | Last Changed Date: 2010-10-17 22:34:23 -0700 (Sun, 17 Oct 2010) | 
 | lamb2 | Linux (openSUSE 11.2) / x86_64 | OK | OK |  | 
| liverpool | Windows Server 2003 R2 (32-bit) / x64 | OK | OK | [ OK ] | 
| gewurz | Windows Server 2008 R2 Enterprise (64-bit) / x64 | OK | OK | OK | 
* installing *source* package 'flowMeans' ...
  Using auto-selected zip option '--use-zip-data'
** R
** data
** inst
** preparing package for lazy loading
Scalable Robust Estimators with High Breakdown Point (version 1.2-01)
Creating a new generic function for "summary" in "flowMeans"
** help
*** installing help indices
** building package indices ...
** testing if installed package can be loaded
* MD5 sums
packaged installation of 'flowMeans' as flowMeans_1.2.0.zip
* DONE (flowMeans)