| Back to the "Multiple platform build/check report" | A B C D [E] F G H I J K L M N O P Q R S T U V W X Y Z |
| Package 124/419 | Hostname | OS / Arch | BUILD | CHECK | BUILD BIN | ||||
| explorase 1.14.0 Michael Lawrence
| lamb2 | Linux (openSUSE 11.2) / x86_64 | OK | OK | |||||
| liverpool | Windows Server 2003 R2 (32-bit) / x64 | [ TIMEOUT ] | skipped | skipped | |||||
| gewurz | Windows Server 2008 R2 Enterprise (64-bit) / x64 | N O T S U P P O R T E D | |||||||
| Package: explorase |
| Version: 1.14.0 |
| Command: chmod a+r explorase -R && E:\biocbld\bbs-2.7-bioc\R\bin\R.exe CMD build --keep-empty-dirs explorase |
| StartedAt: 2011-04-07 03:56:40 -0700 (Thu, 07 Apr 2011) |
| EndedAt: 2011-04-07 04:36:42 -0700 (Thu, 07 Apr 2011) |
| EllapsedTime: 2400.5 seconds |
| RetCode: None |
| Status: TIMEOUT |
| PackageFile: None |
| PackageFileSize: NA |
Warning: unknown option '--keep-empty-dirs' * checking for file 'explorase/DESCRIPTION' ... OK * preparing 'explorase': * checking DESCRIPTION meta-information ... OK * installing the package to re-build vignettes