| Back to the "Multiple platform build/check report" | A [B] C D E F G H I J K L M N O P Q R S T U V W X Y Z | 
| Package 38/419 | Hostname | OS / Arch | BUILD | CHECK | BUILD BIN | ||||
| baySeq 1.4.0 Thomas J. Hardcastle 
 | lamb2 | Linux (openSUSE 11.2) / x86_64 | OK | OK | |||||
| liverpool | Windows Server 2003 R2 (32-bit) / x64 | OK | OK | OK | |||||
| gewurz | Windows Server 2008 R2 Enterprise (64-bit) / x64 | OK | OK | [ OK ] | 
| Package: baySeq | 
| Version: 1.4.0 | 
| Command: D:\biocbld\bbs-2.7-bioc\R\bin\R.exe CMD INSTALL --build --library=baySeq.buildbin-libdir baySeq_1.4.0.tar.gz | 
| StartedAt: 2011-04-07 13:56:22 -0700 (Thu, 07 Apr 2011) | 
| EndedAt: 2011-04-07 13:56:26 -0700 (Thu, 07 Apr 2011) | 
| EllapsedTime: 4.6 seconds | 
| RetCode: 0 | 
| Status: OK | 
| PackageFile: baySeq_1.4.0.zip | 
| PackageFileSize: 370.1 KiB | 
* installing *source* package 'baySeq' ... ** R ** data ** inst ** preparing package for lazy loading ** help *** installing help indices ** building package indices ... ** testing if installed package can be loaded * MD5 sums packaged installation of 'baySeq' as baySeq_1.4.0.zip * DONE (baySeq)