| Back to the "Multiple platform build/check report" | A B C D E F G H [I] J K L M N O P Q R S T U V W X Y Z |
| Package 206/419 | Hostname | OS / Arch | BUILD | CHECK | BUILD BIN | ||||
| Icens 1.22.0 Biocore Team c/o BioC user list
| lamb2 | Linux (openSUSE 11.2) / x86_64 | OK | OK | |||||
| liverpool | Windows Server 2003 R2 (32-bit) / x64 | OK | OK | OK | |||||
| gewurz | Windows Server 2008 R2 Enterprise (64-bit) / x64 | [ OK ] | OK | OK |
| Package: Icens |
| Version: 1.22.0 |
| Command: chmod a+r Icens -R && D:\biocbld\bbs-2.7-bioc\R\bin\R.exe CMD build --keep-empty-dirs Icens |
| StartedAt: 2011-04-07 04:32:10 -0700 (Thu, 07 Apr 2011) |
| EndedAt: 2011-04-07 04:32:16 -0700 (Thu, 07 Apr 2011) |
| EllapsedTime: 6.2 seconds |
| RetCode: 0 |
| Status: OK |
| PackageFile: Icens_1.22.0.tar.gz |
| PackageFileSize: 26.92 KiB |
Warning: unknown option '--keep-empty-dirs' * checking for file 'Icens/DESCRIPTION' ... OK * preparing 'Icens': * checking DESCRIPTION meta-information ... OK * checking for LF line-endings in source and make files * checking for empty or unneeded directories * building 'Icens_1.22.0.tar.gz'