| GenomicFeatures 1.2.5 Biocore Team c/o BioC user list
 
 | Snapshot Date: 2011-04-06 23:24:01 -0700 (Wed, 06 Apr 2011) |  | URL: https://hedgehog.fhcrc.org/bioconductor/branches/RELEASE_2_7/madman/Rpacks/GenomicFeatures |  | Last Changed Rev: 53414 / Revision: 54588 |  | Last Changed Date: 2011-03-03 10:42:18 -0800 (Thu, 03 Mar 2011) | 
 | lamb2 | Linux (openSUSE 11.2) / x86_64 | OK | ERROR |  | 
| liverpool | Windows Server 2003 R2 (32-bit) / x64 | OK | ERROR | OK | 
| gewurz | Windows Server 2008 R2 Enterprise (64-bit) / x64 | [ OK ] | ERROR | OK | 
Warning: unknown option '--keep-empty-dirs'
* checking for file 'GenomicFeatures/DESCRIPTION' ... OK
* preparing 'GenomicFeatures':
* checking DESCRIPTION meta-information ... OK
* installing the package to re-build vignettes
* creating vignettes ... OK
* checking for LF line-endings in source and make files
* checking for empty or unneeded directories
* building 'GenomicFeatures_1.2.5.tar.gz'