| GEOquery 2.17.5 Sean Davis
 
 | Snapshot Date: 2011-04-06 23:24:01 -0700 (Wed, 06 Apr 2011) |  | URL: https://hedgehog.fhcrc.org/bioconductor/branches/RELEASE_2_7/madman/Rpacks/GEOquery |  | Last Changed Rev: 54129 / Revision: 54588 |  | Last Changed Date: 2011-03-28 17:46:39 -0700 (Mon, 28 Mar 2011) | 
 | lamb2 | Linux (openSUSE 11.2) / x86_64 | OK | OK |  | 
| liverpool | Windows Server 2003 R2 (32-bit) / x64 | OK | OK | [ OK ] | 
| gewurz | Windows Server 2008 R2 Enterprise (64-bit) / x64 | OK | OK | OK | 
* installing *source* package 'GEOquery' ...
** R
** inst
** preparing package for lazy loading
Welcome to Bioconductor
  Vignettes contain introductory material. To view, type
  'openVignette()'. To cite Bioconductor, see
  'citation("Biobase")' and for packages 'citation(pkgname)'.
** help
*** installing help indices
** building package indices ...
** testing if installed package can be loaded
Setting options('download.file.method'='curl')
* MD5 sums
packaged installation of 'GEOquery' as GEOquery_2.17.5.zip
* DONE (GEOquery)