| Back to the "Multiple platform build/check report" | A [B] C D E F G H I J K L M N O P Q R S T U V W X Y Z |
| Package 50/419 | Hostname | OS / Arch | BUILD | CHECK | BUILD BIN | ||||
| BiocCaseStudies 1.12.0 Biocore Team c/o BioC user list
| lamb2 | Linux (openSUSE 11.2) / x86_64 | [ OK ] | OK | |||||
| liverpool | Windows Server 2003 R2 (32-bit) / x64 | OK | OK | OK | |||||
| gewurz | Windows Server 2008 R2 Enterprise (64-bit) / x64 | OK | OK | OK |
| Package: BiocCaseStudies |
| Version: 1.12.0 |
| Command: /home/biocbuild/bbs-2.7-bioc/R/bin/R CMD build BiocCaseStudies |
| StartedAt: 2011-04-07 02:39:21 -0700 (Thu, 07 Apr 2011) |
| EndedAt: 2011-04-07 02:39:22 -0700 (Thu, 07 Apr 2011) |
| EllapsedTime: 0.5 seconds |
| RetCode: 0 |
| Status: OK |
| PackageFile: BiocCaseStudies_1.12.0.tar.gz |
| PackageFileSize: 6.782 KiB |
* checking for file ‘BiocCaseStudies/DESCRIPTION’ ... OK * preparing ‘BiocCaseStudies’: * checking DESCRIPTION meta-information ... OK * checking for LF line-endings in source and make files * checking for empty or unneeded directories * building ‘BiocCaseStudies_1.12.0.tar.gz’