xmapbridge 1.8.1 Tim Yates
 | Snapshot Date: 2011-04-06 23:24:01 -0700 (Wed, 06 Apr 2011) |  | URL: https://hedgehog.fhcrc.org/bioconductor/branches/RELEASE_2_7/madman/Rpacks/xmapbridge |  | Last Changed Rev: 50393 / Revision: 54588 |  | Last Changed Date: 2010-10-22 06:23:24 -0700 (Fri, 22 Oct 2010) |  
  | lamb2  | Linux (openSUSE 11.2) / x86_64  |  OK  |  OK  |  | 
| liverpool  | Windows Server 2003 R2 (32-bit) / x64  | [ OK ] |  OK  |  OK  | 
| gewurz  | Windows Server 2008 R2 Enterprise (64-bit) / x64  |  OK  |  OK  |  OK  | 
Warning: unknown option '--keep-empty-dirs'
* checking for file 'xmapbridge/DESCRIPTION' ... OK
* preparing 'xmapbridge':
* checking DESCRIPTION meta-information ... OK
* installing the package to re-build vignettes
* creating vignettes ... OK
* checking for LF line-endings in source and make files
* checking for empty or unneeded directories
* building 'xmapbridge_1.8.1.tar.gz'