| Back to the "Multiple platform build/check report" | A B C D E F G H [I] J K L M N O P Q R S T U V W X Y Z |
| Package 210/419 | Hostname | OS / Arch | BUILD | CHECK | BUILD BIN | ||||
| impute 1.24.0 Balasubramanian Narasimhan
| lamb2 | Linux (openSUSE 11.2) / x86_64 | [ OK ] | OK | |||||
| liverpool | Windows Server 2003 R2 (32-bit) / x64 | OK | OK | OK | |||||
| gewurz | Windows Server 2008 R2 Enterprise (64-bit) / x64 | OK | OK | OK |
| Package: impute |
| Version: 1.24.0 |
| Command: /home/biocbuild/bbs-2.7-bioc/R/bin/R CMD build impute |
| StartedAt: 2011-04-07 01:42:05 -0700 (Thu, 07 Apr 2011) |
| EndedAt: 2011-04-07 01:42:05 -0700 (Thu, 07 Apr 2011) |
| EllapsedTime: 0.5 seconds |
| RetCode: 0 |
| Status: OK |
| PackageFile: impute_1.24.0.tar.gz |
| PackageFileSize: 1.135 MiB |
* checking for file ‘impute/DESCRIPTION’ ... OK * preparing ‘impute’: * checking DESCRIPTION meta-information ... OK * cleaning src * checking for LF line-endings in source and make files * checking for empty or unneeded directories * building ‘impute_1.24.0.tar.gz’