| Back to the "Multiple platform build/check report" | A B C D E F [G] H I J K L M N O P Q R S T U V W X Y Z | 
| Package 187/419 | Hostname | OS / Arch | BUILD | CHECK | BUILD BIN | ||||
| gpls 1.22.0 Biocore Team c/o BioC user list 
  | lamb2 | Linux (openSUSE 11.2) / x86_64 | OK | OK | |||||
| liverpool | Windows Server 2003 R2 (32-bit) / x64 | OK | OK | OK | |||||
| gewurz | Windows Server 2008 R2 Enterprise (64-bit) / x64 | OK | OK | [ OK ] | 
| Package: gpls | 
| Version: 1.22.0 | 
| Command: D:\biocbld\bbs-2.7-bioc\R\bin\R.exe CMD INSTALL --build --library=gpls.buildbin-libdir gpls_1.22.0.tar.gz | 
| StartedAt: 2011-04-07 14:07:47 -0700 (Thu, 07 Apr 2011) | 
| EndedAt: 2011-04-07 14:07:55 -0700 (Thu, 07 Apr 2011) | 
| EllapsedTime: 7.9 seconds | 
| RetCode: 0 | 
| Status: OK | 
| PackageFile: gpls_1.22.0.zip | 
| PackageFileSize: 171.4 KiB | 
* installing *source* package 'gpls' ... ** R ** inst ** preparing package for lazy loading ** help *** installing help indices ** building package indices ... ** testing if installed package can be loaded * MD5 sums packaged installation of 'gpls' as gpls_1.22.0.zip * DONE (gpls)