| biocViews 1.18.1 Biocore Team c/o BioC user list
 
 | Snapshot Date: 2011-04-06 23:24:01 -0700 (Wed, 06 Apr 2011) |  | URL: https://hedgehog.fhcrc.org/bioconductor/branches/RELEASE_2_7/madman/Rpacks/biocViews |  | Last Changed Rev: 52087 / Revision: 54588 |  | Last Changed Date: 2011-01-26 14:19:25 -0800 (Wed, 26 Jan 2011) | 
 | lamb2 | Linux (openSUSE 11.2) / x86_64 | OK | OK |  | 
| liverpool | Windows Server 2003 R2 (32-bit) / x64 | OK | OK | OK | 
| gewurz | Windows Server 2008 R2 Enterprise (64-bit) / x64 | OK | OK | [ OK ] | 
* installing *source* package 'biocViews' ...
** R
** data
** inst
** preparing package for lazy loading
** help
*** installing help indices
** building package indices ...
** testing if installed package can be loaded
* MD5 sums
packaged installation of 'biocViews' as biocViews_1.18.1.zip
* DONE (biocViews)