| arrayQualityMetrics 3.2.4 Audrey Kauffmann
 
 | Snapshot Date: 2011-04-06 23:24:01 -0700 (Wed, 06 Apr 2011) |  | URL: https://hedgehog.fhcrc.org/bioconductor/branches/RELEASE_2_7/madman/Rpacks/arrayQualityMetrics |  | Last Changed Rev: 51679 / Revision: 54588 |  | Last Changed Date: 2010-12-27 07:46:05 -0800 (Mon, 27 Dec 2010) | 
 | lamb2 | Linux (openSUSE 11.2) / x86_64 | [ OK ] | OK |  | 
| liverpool | Windows Server 2003 R2 (32-bit) / x64 | OK | OK | OK | 
| gewurz | Windows Server 2008 R2 Enterprise (64-bit) / x64 | N O T   S U P P O R T E D | 
* checking for file ‘arrayQualityMetrics/DESCRIPTION’ ... OK
* preparing ‘arrayQualityMetrics’:
* checking DESCRIPTION meta-information ... OK
* installing the package to re-build vignettes
* creating vignettes ... OK
* checking for LF line-endings in source and make files
* checking for empty or unneeded directories
* building ‘arrayQualityMetrics_3.2.4.tar.gz’