SRAdb 1.4.1 Jack Zhu
| Snapshot Date: 2011-04-06 23:24:01 -0700 (Wed, 06 Apr 2011) | | URL: https://hedgehog.fhcrc.org/bioconductor/branches/RELEASE_2_7/madman/Rpacks/SRAdb | | Last Changed Rev: 51835 / Revision: 54588 | | Last Changed Date: 2011-01-08 07:01:40 -0800 (Sat, 08 Jan 2011) |
| lamb2 | Linux (openSUSE 11.2) / x86_64 | OK | OK | |
| liverpool | Windows Server 2003 R2 (32-bit) / x64 | OK | OK | OK |
| gewurz | Windows Server 2008 R2 Enterprise (64-bit) / x64 | OK | OK | [ OK ] |
* installing *source* package 'SRAdb' ...
** R
** inst
** preparing package for lazy loading
Loading required package: bitops
Loading required package: DBI
Setting options('download.file.method'='curl')
** help
*** installing help indices
** building package indices ...
** testing if installed package can be loaded
* MD5 sums
packaged installation of 'SRAdb' as SRAdb_1.4.1.zip
* DONE (SRAdb)