| RbcBook1 1.18.1 Vince Carey
 
 | Snapshot Date: 2011-04-06 23:24:01 -0700 (Wed, 06 Apr 2011) |  | URL: https://hedgehog.fhcrc.org/bioconductor/branches/RELEASE_2_7/madman/Rpacks/RbcBook1 |  | Last Changed Rev: 51562 / Revision: 54588 |  | Last Changed Date: 2010-12-15 15:15:34 -0800 (Wed, 15 Dec 2010) | 
 | lamb2 | Linux (openSUSE 11.2) / x86_64 | OK | OK |  | 
| liverpool | Windows Server 2003 R2 (32-bit) / x64 | OK | OK | OK | 
| gewurz | Windows Server 2008 R2 Enterprise (64-bit) / x64 | OK | OK | [ OK ] | 
* installing *source* package 'RbcBook1' ...
  Using auto-selected zip option '--use-zip-data'
** R
** data
** inst
** help
*** installing help indices
** building package indices ...
** testing if installed package can be loaded
* MD5 sums
packaged installation of 'RbcBook1' as RbcBook1_1.18.1.zip
* DONE (RbcBook1)