| PGSEA 1.20.1 Karl Dykema
 
 | Snapshot Date: 2011-04-06 23:24:01 -0700 (Wed, 06 Apr 2011) |  | URL: https://hedgehog.fhcrc.org/bioconductor/branches/RELEASE_2_7/madman/Rpacks/PGSEA |  | Last Changed Rev: 51562 / Revision: 54588 |  | Last Changed Date: 2010-12-15 15:15:34 -0800 (Wed, 15 Dec 2010) | 
 | lamb2 | Linux (openSUSE 11.2) / x86_64 | [ OK ] | OK |  | 
| liverpool | Windows Server 2003 R2 (32-bit) / x64 | OK | OK | OK | 
| gewurz | Windows Server 2008 R2 Enterprise (64-bit) / x64 | OK | OK | OK | 
* checking for file ‘PGSEA/DESCRIPTION’ ... OK
* preparing ‘PGSEA’:
* checking DESCRIPTION meta-information ... OK
* installing the package to re-build vignettes
* creating vignettes ... OK
* checking for LF line-endings in source and make files
* checking for empty or unneeded directories
* building ‘PGSEA_1.20.1.tar.gz’