| Back to the "Multiple platform build/check report" | A B C D E F G H I J [K] L M N O P Q R S T U V W X Y Z |
| Package 220/419 | Hostname | OS / Arch | BUILD | CHECK | BUILD BIN | ||||
| KEGGSOAP 1.24.0 Biocore Team c/o BioC user list
| lamb2 | Linux (openSUSE 11.2) / x86_64 | OK | OK | |||||
| liverpool | Windows Server 2003 R2 (32-bit) / x64 | OK | OK | [ OK ] | |||||
| gewurz | Windows Server 2008 R2 Enterprise (64-bit) / x64 | OK | OK | OK |
| Package: KEGGSOAP |
| Version: 1.24.0 |
| Command: E:\biocbld\bbs-2.7-bioc\R\bin\R.exe CMD INSTALL --build --library=KEGGSOAP.buildbin-libdir KEGGSOAP_1.24.0.tar.gz |
| StartedAt: 2011-04-07 09:30:07 -0700 (Thu, 07 Apr 2011) |
| EndedAt: 2011-04-07 09:30:12 -0700 (Thu, 07 Apr 2011) |
| EllapsedTime: 4.8 seconds |
| RetCode: 0 |
| Status: OK |
| PackageFile: KEGGSOAP_1.24.0.zip |
| PackageFileSize: 58.28 KiB |
* installing *source* package 'KEGGSOAP' ... ** R ** preparing package for lazy loading ** help *** installing help indices ** building package indices ... ** testing if installed package can be loaded * MD5 sums packaged installation of 'KEGGSOAP' as KEGGSOAP_1.24.0.zip * DONE (KEGGSOAP)