| Genominator 1.4.2 James Bullard
 
 | Snapshot Date: 2011-04-06 23:24:01 -0700 (Wed, 06 Apr 2011) |  | URL: https://hedgehog.fhcrc.org/bioconductor/branches/RELEASE_2_7/madman/Rpacks/Genominator |  | Last Changed Rev: 53440 / Revision: 54588 |  | Last Changed Date: 2011-03-04 07:13:04 -0800 (Fri, 04 Mar 2011) | 
 | lamb2 | Linux (openSUSE 11.2) / x86_64 | OK | OK |  | 
| liverpool | Windows Server 2003 R2 (32-bit) / x64 | OK | OK | OK | 
| gewurz | Windows Server 2008 R2 Enterprise (64-bit) / x64 | OK | OK | [ OK ] | 
* installing *source* package 'Genominator' ...
  Using auto-selected zip option '--use-zip-data'
** R
** data
** inst
** preparing package for lazy loading
Loading required package: DBI
Attaching package: 'IRanges'
The following object(s) are masked from 'package:base':
    Map, cbind, eval, mapply, order, paste, pmax, pmax.int, pmin,
    pmin.int, rbind, rep.int, table
Loading required package: biomaRt
Loading required package: grid
** help
*** installing help indices
** building package indices ...
** testing if installed package can be loaded
* MD5 sums
packaged installation of 'Genominator' as Genominator_1.4.2.zip
* DONE (Genominator)