| GGtools 3.8.4 Vince Carey
 
 | Snapshot Date: 2011-04-06 23:24:01 -0700 (Wed, 06 Apr 2011) |  | URL: https://hedgehog.fhcrc.org/bioconductor/branches/RELEASE_2_7/madman/Rpacks/GGtools |  | Last Changed Rev: 51512 / Revision: 54588 |  | Last Changed Date: 2010-12-13 12:32:55 -0800 (Mon, 13 Dec 2010) | 
 | lamb2 | Linux (openSUSE 11.2) / x86_64 | OK | ERROR |  | 
| liverpool | Windows Server 2003 R2 (32-bit) / x64 | OK | OK | [ OK ] | 
| gewurz | Windows Server 2008 R2 Enterprise (64-bit) / x64 | OK | ERROR | OK | 
* installing *source* package 'GGtools' ...
  Using auto-selected zip option '--use-zip-data'
** R
** data
** inst
** preparing package for lazy loading
Welcome to Bioconductor
  Vignettes contain introductory material. To view, type
  'openVignette()'. To cite Bioconductor, see
  'citation("Biobase")' and for packages 'citation(pkgname)'.
Loading required package: snpMatrix
Loading required package: survival
Loading required package: splines
Loading required package: RSQLite
Loading required package: DBI
Loading required package: AnnotationDbi
Attaching package: 'IRanges'
The following object(s) are masked from 'package:Biobase':
    updateObject
The following object(s) are masked from 'package:base':
    Map, cbind, eval, mapply, order, paste, pmax, pmax.int, pmin,
    pmin.int, rbind, rep.int, table
Loading required package: RCurl
Loading required package: bitops
Loading required package: tools
Loading required package: bit
Loading package bit1.1-6
package:bit (c) 2008/2009 Jens Oehlschlaegel (GPL-2)
creators: bit bitwhich
coercion: as.logical as.integer as.bit as.bitwhich which
operator: ! & | xor != == 
querying: print length any all min max range sum summary
bit access: length<- [ [<- [[ [[<-
for more help type ?bit
Attaching package: 'bit'
The following object(s) are masked from 'package:base':
    xor
Loading package ff2.2-1
- getOption("fftempdir")=="E:/biocbld/bbs-2.7-bioc/tmpdir/Rtmp3kNlQa"
- getOption("ffextension")=="ff"
- getOption("ffdrop")==TRUE
- getOption("fffinonexit")==TRUE
- getOption("ffpagesize")==65536
- getOption("ffcaching")=="mmnoflush"  -- consider "ffeachflush" if your system stalls on large writes
- getOption("ffbatchbytes")==16095641.6 -- consider a different value for tuning your system
- getOption("ffmaxbytes")==804782080 -- consider a different value for tuning your system
Attaching package ff
Attaching package: 'ff'
The following object(s) are masked from 'package:utils':
    write.csv, write.csv2
The following object(s) are masked from 'package:base':
    is.factor, is.ordered
** help
*** installing help indices
** building package indices ...
** testing if installed package can be loaded
* MD5 sums
packaged installation of 'GGtools' as GGtools_3.8.4.zip
* DONE (GGtools)