| DESeq 1.2.1 Simon Anders
 
 | Snapshot Date: 2011-04-06 23:24:01 -0700 (Wed, 06 Apr 2011) |  | URL: https://hedgehog.fhcrc.org/bioconductor/branches/RELEASE_2_7/madman/Rpacks/DESeq |  | Last Changed Rev: 50639 / Revision: 54588 |  | Last Changed Date: 2010-11-02 14:41:53 -0700 (Tue, 02 Nov 2010) | 
 | lamb2 | Linux (openSUSE 11.2) / x86_64 | [ OK ] | OK |  | 
| liverpool | Windows Server 2003 R2 (32-bit) / x64 | OK | OK | OK | 
| gewurz | Windows Server 2008 R2 Enterprise (64-bit) / x64 | OK | OK | OK | 
* checking for file ‘DESeq/DESCRIPTION’ ... OK
* preparing ‘DESeq’:
* checking DESCRIPTION meta-information ... OK
* cleaning src
* installing the package to re-build vignettes
* creating vignettes ... OK
* cleaning src
* checking for LF line-endings in source and make files
* checking for empty or unneeded directories
* building ‘DESeq_1.2.1.tar.gz’