| CALIB 1.16.0 Hui Zhao
 
 | Snapshot Date: 2011-04-06 23:24:01 -0700 (Wed, 06 Apr 2011) |  | URL: https://hedgehog.fhcrc.org/bioconductor/branches/RELEASE_2_7/madman/Rpacks/CALIB |  | Last Changed Rev: 50293 / Revision: 54588 |  | Last Changed Date: 2010-10-17 22:34:23 -0700 (Sun, 17 Oct 2010) | 
 | lamb2 | Linux (openSUSE 11.2) / x86_64 | OK | OK |  | 
| liverpool | Windows Server 2003 R2 (32-bit) / x64 | OK | OK | [ OK ] | 
| gewurz | Windows Server 2008 R2 Enterprise (64-bit) / x64 | OK | OK | OK | 
* installing *source* package 'CALIB' ...
  Using auto-selected zip option '--use-zip-data'
** libs
g++ -I"E:/biocbld/bbs-2.7-bioc/R/include"         -O2 -Wall  -c Design.cpp -o Design.o
g++ -I"E:/biocbld/bbs-2.7-bioc/R/include"         -O2 -Wall  -c Estimation.cpp -o Estimation.o
Estimation.cpp: In function 'SEXPREC* estimation(SEXPREC*, SEXPREC*, SEXPREC*, SEXPREC*, SEXPREC*, SEXPREC*, SEXPREC*, SEXPREC*)':
Estimation.cpp:144:78: warning: deprecated conversion from string constant to 'char*'
Estimation.cpp:144:78: warning: deprecated conversion from string constant to 'char*'
Estimation.cpp:144:78: warning: deprecated conversion from string constant to 'char*'
Estimation.cpp:144:78: warning: deprecated conversion from string constant to 'char*'
Estimation.cpp:144:78: warning: deprecated conversion from string constant to 'char*'
Estimation.cpp:144:78: warning: deprecated conversion from string constant to 'char*'
Estimation.cpp:144:78: warning: deprecated conversion from string constant to 'char*'
Estimation.cpp:144:78: warning: deprecated conversion from string constant to 'char*'
g++ -I"E:/biocbld/bbs-2.7-bioc/R/include"         -O2 -Wall  -c NormalizedData.cpp -o NormalizedData.o
g++ -I"E:/biocbld/bbs-2.7-bioc/R/include"         -O2 -Wall  -c ParameterofOneArray.cpp -o ParameterofOneArray.o
g++ -I"E:/biocbld/bbs-2.7-bioc/R/include"         -O2 -Wall  -c RawDataofOneArray.cpp -o RawDataofOneArray.o
g++ -I"E:/biocbld/bbs-2.7-bioc/R/include"         -O2 -Wall  -c SpikeofOneArray.cpp -o SpikeofOneArray.o
g++ -shared -s -static-libgcc -o CALIB.dll tmp.def Design.o Estimation.o NormalizedData.o ParameterofOneArray.o RawDataofOneArray.o SpikeofOneArray.o -LE:/biocbld/bbs-2.7-bioc/R/bin/i386 -lR
installing to E:/biocbld/bbs-2.7-bioc/meat/CALIB.buildbin-libdir/CALIB/libs/i386
** R
** data
** inst
** preparing package for lazy loading
** help
*** installing help indices
** building package indices ...
** testing if installed package can be loaded
* MD5 sums
packaged installation of 'CALIB' as CALIB_1.16.0.zip
* DONE (CALIB)