| Back to the "Multiple platform build/check report" | A B C D E F G H I J K L M N O P Q R [S] T U V W X Y Z | 
| Package 390/419 | Hostname | OS / Arch | BUILD | CHECK | BUILD BIN | ||||
| splots 1.16.1 Wolfgang Huber 
  | lamb2 | Linux (openSUSE 11.2) / x86_64 | OK | OK | |||||
| liverpool | Windows Server 2003 R2 (32-bit) / x64 | OK | OK | [ OK ] | |||||
| gewurz | Windows Server 2008 R2 Enterprise (64-bit) / x64 | OK | OK | OK | |||||
| pelham | Mac OS X Leopard (10.5.8) / i386 | OK | OK | OK | 
| Package: splots | 
| Version: 1.16.1 | 
| Command: E:\biocbld\bbs-2.7-bioc\R\bin\R.exe CMD INSTALL --build --library=splots.buildbin-libdir splots_1.16.1.tar.gz | 
| StartedAt: 2011-03-31 09:11:27 -0700 (Thu, 31 Mar 2011) | 
| EndedAt: 2011-03-31 09:11:31 -0700 (Thu, 31 Mar 2011) | 
| EllapsedTime: 4.5 seconds | 
| RetCode: 0 | 
| Status: OK | 
| PackageFile: splots_1.16.1.zip | 
| PackageFileSize: 127 KiB | 
* installing *source* package 'splots' ... ** R ** inst ** preparing package for lazy loading ** help *** installing help indices ** building package indices ... ** testing if installed package can be loaded * MD5 sums packaged installation of 'splots' as splots_1.16.1.zip * DONE (splots)