| maanova 1.20.0 Keith Sheppard
 
 | Snapshot Date: 2011-03-30 23:22:56 -0700 (Wed, 30 Mar 2011) |  | URL: https://hedgehog.fhcrc.org/bioconductor/branches/RELEASE_2_7/madman/Rpacks/maanova |  | Last Changed Rev: 50293 / Revision: 54281 |  | Last Changed Date: 2010-10-17 22:34:23 -0700 (Sun, 17 Oct 2010) | 
 | lamb2 | Linux (openSUSE 11.2) / x86_64 | OK | OK |  | 
| liverpool | Windows Server 2003 R2 (32-bit) / x64 | OK | OK | [ OK ] | 
| gewurz | Windows Server 2008 R2 Enterprise (64-bit) / x64 | OK | OK | OK | 
| pelham | Mac OS X Leopard (10.5.8) / i386 | OK | OK | OK | 
* installing *source* package 'maanova' ...
  Using auto-selected zip option '--use-zip-data'
** libs
gcc -I"E:/biocbld/bbs-2.7-bioc/R/include"         -O3 -Wall  -std=gnu99 -c makeratio.c -o makeratio.o
gcc -I"E:/biocbld/bbs-2.7-bioc/R/include"         -O3 -Wall  -std=gnu99 -c masvd.c -o masvd.o
masvd.c:114:2: warning: "/*" within comment
masvd.c:154:1: warning: "/*" within comment
masvd.c:161:5: warning: "/*" within comment
masvd.c:165:2: warning: "/*" within comment
masvd.c:189:2: warning: "/*" within comment
gcc -I"E:/biocbld/bbs-2.7-bioc/R/include"         -O3 -Wall  -std=gnu99 -c shift.c -o shift.o
shift.c: In function 'shift':
shift.c:27:13: warning: unused variable 'k'
gcc -I"E:/biocbld/bbs-2.7-bioc/R/include"         -O3 -Wall  -std=gnu99 -c util.c -o util.o
gcc -shared -s -static-libgcc -o maanova.dll tmp.def makeratio.o masvd.o shift.o util.o -LE:/biocbld/bbs-2.7-bioc/R/bin/i386 -lRlapack -LE:/biocbld/bbs-2.7-bioc/R/bin/i386 -lR
installing to E:/biocbld/bbs-2.7-bioc/meat/maanova.buildbin-libdir/maanova/libs/i386
** R
** data
** demo
** inst
** preparing package for lazy loading
** help
*** installing help indices
** building package indices ...
** testing if installed package can be loaded
* MD5 sums
packaged installation of 'maanova' as maanova_1.20.0.zip
* DONE (maanova)