fdrame 1.22.0 Effi Kenigsberg
 | Snapshot Date: 2011-03-30 23:22:56 -0700 (Wed, 30 Mar 2011) |  | URL: https://hedgehog.fhcrc.org/bioconductor/branches/RELEASE_2_7/madman/Rpacks/fdrame |  | Last Changed Rev: 50293 / Revision: 54281 |  | Last Changed Date: 2010-10-17 22:34:23 -0700 (Sun, 17 Oct 2010) |  
  | lamb2  | Linux (openSUSE 11.2) / x86_64  |  OK  |  WARNINGS  |  | 
| liverpool  | Windows Server 2003 R2 (32-bit) / x64  |  OK  |  WARNINGS  |  OK  | 
| gewurz  | Windows Server 2008 R2 Enterprise (64-bit) / x64  |  OK  |  WARNINGS  | [ OK ] | 
| pelham  | Mac OS X Leopard (10.5.8) / i386  |  OK  |  WARNINGS  |  OK  | 
* installing *source* package 'fdrame' ...
  Using auto-selected zip option '--use-zip-data'
** libs
x86_64-w64-mingw32-gcc -I"D:/biocbld/bbs-2.7-bioc/R/include"         -O2 -Wall  -std=gnu99 -c fdr.c -o fdr.o
x86_64-w64-mingw32-gcc -shared -s -static-libgcc -o fdrame.dll tmp.def fdr.o -LD:/biocbld/bbs-2.7-bioc/R/bin/x64 -lR
installing to D:/biocbld/bbs-2.7-bioc/meat/fdrame.buildbin-libdir/fdrame/libs/x64
** R
** data
** inst
** preparing package for lazy loading
Loading Tcl/Tk interface ... done
** help
*** installing help indices
** building package indices ...
** testing if installed package can be loaded
* MD5 sums
packaged installation of 'fdrame' as fdrame_1.22.0.zip
* DONE (fdrame)