| hexbin 1.24.1 Nicholas Lewin-Koh
 
 | Snapshot Date: 2011-03-30 23:22:56 -0700 (Wed, 30 Mar 2011) |  | URL: https://hedgehog.fhcrc.org/bioconductor/branches/RELEASE_2_7/madman/Rpacks/hexbin |  | Last Changed Rev: 51562 / Revision: 54281 |  | Last Changed Date: 2010-12-15 15:15:34 -0800 (Wed, 15 Dec 2010) | 
 | lamb2 | Linux (openSUSE 11.2) / x86_64 | OK | OK |  | 
| liverpool | Windows Server 2003 R2 (32-bit) / x64 | OK | OK | OK | 
| gewurz | Windows Server 2008 R2 Enterprise (64-bit) / x64 | OK | OK | [ OK ] | 
| pelham | Mac OS X Leopard (10.5.8) / i386 | OK | OK | OK | 
* installing *source* package 'hexbin' ...
  Using auto-selected zip option '--use-zip-data'
** libs
x86_64-w64-mingw32-gfortran     -O2  -c hbin.f -o hbin.o
x86_64-w64-mingw32-gfortran     -O2  -c hcell.f -o hcell.o
x86_64-w64-mingw32-gfortran     -O2  -c herode.f -o herode.o
x86_64-w64-mingw32-gfortran     -O2  -c hsm.f -o hsm.o
x86_64-w64-mingw32-gcc -shared -s -static-libgcc -o hexbin.dll tmp.def hbin.o hcell.o herode.o hsm.o -lgfortran -LD:/biocbld/bbs-2.7-bioc/R/bin/x64 -lR
installing to D:/biocbld/bbs-2.7-bioc/meat/hexbin.buildbin-libdir/hexbin/libs/x64
** R
** data
** inst
** preparing package for lazy loading
Creating a new generic function for "plot" in "hexbin"
Creating a new generic function for "summary" in "hexbin"
** help
*** installing help indices
** building package indices ...
** testing if installed package can be loaded
* MD5 sums
packaged installation of 'hexbin' as hexbin_1.24.1.zip
* DONE (hexbin)