| Back to the "Multiple platform build/check report" | A B C D E F G H I J K L M N O P Q R [S] T U V W X Y Z |
| Package 380/419 | Hostname | OS / Arch | BUILD | CHECK | BUILD BIN | ||||
| SLqPCR 1.16.0 Matthias Kohl
| lamb2 | Linux (openSUSE 11.2) / x86_64 | OK | OK | |||||
| liverpool | Windows Server 2003 R2 (32-bit) / x64 | OK | OK | OK | |||||
| gewurz | Windows Server 2008 R2 Enterprise (64-bit) / x64 | OK | OK | [ OK ] | |||||
| pelham | Mac OS X Leopard (10.5.8) / i386 | OK | OK | OK |
| Package: SLqPCR |
| Version: 1.16.0 |
| Command: D:\biocbld\bbs-2.7-bioc\R\bin\R.exe CMD INSTALL --build --library=SLqPCR.buildbin-libdir SLqPCR_1.16.0.tar.gz |
| StartedAt: 2011-03-31 11:48:30 -0700 (Thu, 31 Mar 2011) |
| EndedAt: 2011-03-31 11:48:34 -0700 (Thu, 31 Mar 2011) |
| EllapsedTime: 3.9 seconds |
| RetCode: 0 |
| Status: OK |
| PackageFile: SLqPCR_1.16.0.zip |
| PackageFileSize: 183 KiB |
* installing *source* package 'SLqPCR' ... ** R ** data ** inst ** preparing package for lazy loading ** help *** installing help indices ** building package indices ... ** testing if installed package can be loaded * MD5 sums packaged installation of 'SLqPCR' as SLqPCR_1.16.0.zip * DONE (SLqPCR)