RCytoscape 1.0.1 Paul Shannon
 | Snapshot Date: 2011-02-21 23:27:16 -0800 (Mon, 21 Feb 2011) |  | URL: https://hedgehog.fhcrc.org/bioconductor/branches/RELEASE_2_7/madman/Rpacks/RCytoscape |  | Last Changed Rev: 50835 / Revision: 53048 |  | Last Changed Date: 2010-11-11 19:01:48 -0800 (Thu, 11 Nov 2010) |  
  | lamb2  | Linux (openSUSE 11.2) / x86_64  |  OK  |  OK  |  | 
| liverpool  | Windows Server 2003 R2 (32-bit) / x64  |  OK  |  OK  | [ OK ] | 
| gewurz  | Windows Server 2008 R2 Enterprise (64-bit) / x64  |  OK  |  OK  |  OK  | 
| pelham  | Mac OS X Leopard (10.5.8) / i386  |  OK  |  OK  |  OK  | 
* installing *source* package 'RCytoscape' ...
** R
** inst
** preparing package for lazy loading
** help
*** installing help indices
** building package indices ...
** testing if installed package can be loaded
* MD5 sums
packaged installation of 'RCytoscape' as RCytoscape_1.0.1.zip
* DONE (RCytoscape)