MergeMaid 2.22.0 Xiaogang Zhong
 | Snapshot Date: 2011-03-30 23:22:56 -0700 (Wed, 30 Mar 2011) |  | URL: https://hedgehog.fhcrc.org/bioconductor/branches/RELEASE_2_7/madman/Rpacks/MergeMaid |  | Last Changed Rev: 50293 / Revision: 54281 |  | Last Changed Date: 2010-10-17 22:34:23 -0700 (Sun, 17 Oct 2010) |  
  | lamb2  | Linux (openSUSE 11.2) / x86_64  |  OK  |  OK  |  | 
| liverpool  | Windows Server 2003 R2 (32-bit) / x64  |  OK  |  OK  |  OK  | 
| gewurz  | Windows Server 2008 R2 Enterprise (64-bit) / x64  |  OK  |  OK  | [ OK ] | 
| pelham  | Mac OS X Leopard (10.5.8) / i386  |  OK  |  OK  |  OK  | 
* installing *source* package 'MergeMaid' ...
  Using auto-selected zip option '--use-zip-data'
** R
** data
** inst
** preparing package for lazy loading
Loading required package: splines
Welcome to Bioconductor
  Vignettes contain introductory material. To view, type
  'openVignette()'. To cite Bioconductor, see
  'citation("Biobase")' and for packages 'citation(pkgname)'.
Creating a new generic function for "plot" in "MergeMaid"
Creating a new generic function for "hist" in "MergeMaid"
Creating a new generic function for "summary" in "MergeMaid"
** help
*** installing help indices
** building package indices ...
** testing if installed package can be loaded
* MD5 sums
packaged installation of 'MergeMaid' as MergeMaid_2.22.0.zip
* DONE (MergeMaid)