ShortRead 1.8.2 Biocore Team c/o BioC user list
 | Snapshot Date: 2011-03-30 23:22:56 -0700 (Wed, 30 Mar 2011) |  | URL: https://hedgehog.fhcrc.org/bioconductor/branches/RELEASE_2_7/madman/Rpacks/ShortRead |  | Last Changed Rev: 51020 / Revision: 54281 |  | Last Changed Date: 2010-11-23 07:31:39 -0800 (Tue, 23 Nov 2010) |  
  | lamb2  | Linux (openSUSE 11.2) / x86_64  |  OK  |  WARNINGS  |  | 
| liverpool  | Windows Server 2003 R2 (32-bit) / x64  |  OK  |  WARNINGS  |  OK  | 
| gewurz  | Windows Server 2008 R2 Enterprise (64-bit) / x64  | [ OK ] |  WARNINGS  |  OK  | 
| pelham  | Mac OS X Leopard (10.5.8) / i386  |  OK  |  WARNINGS  |  OK  | 
Warning: unknown option '--keep-empty-dirs'
* checking for file 'ShortRead/DESCRIPTION' ... OK
* preparing 'ShortRead':
* checking DESCRIPTION meta-information ... OK
* cleaning src
* installing the package to re-build vignettes
* creating vignettes ... OK
* cleaning src
* checking for LF line-endings in source and make files
* checking for empty or unneeded directories
* building 'ShortRead_1.8.2.tar.gz'