SamSPECTRAL 1.4.1 Habil Zare
 | Snapshot Date: 2011-03-30 23:22:56 -0700 (Wed, 30 Mar 2011) |  | URL: https://hedgehog.fhcrc.org/bioconductor/branches/RELEASE_2_7/madman/Rpacks/SamSPECTRAL |  | Last Changed Rev: 50369 / Revision: 54281 |  | Last Changed Date: 2010-10-20 14:36:57 -0700 (Wed, 20 Oct 2010) |  
  | lamb2  | Linux (openSUSE 11.2) / x86_64  |  OK  |  OK  |  | 
| liverpool  | Windows Server 2003 R2 (32-bit) / x64  |  OK  |  OK  |  OK  | 
| gewurz  | Windows Server 2008 R2 Enterprise (64-bit) / x64  | [ OK ] |  OK  |  OK  | 
| pelham  | Mac OS X Leopard (10.5.8) / i386  |  OK  |  OK  |  OK  | 
Warning: unknown option '--keep-empty-dirs'
* checking for file 'SamSPECTRAL/DESCRIPTION' ... OK
* preparing 'SamSPECTRAL':
* checking DESCRIPTION meta-information ... OK
* cleaning src
* installing the package to re-build vignettes
* creating vignettes ... OK
* cleaning src
* checking for LF line-endings in source and make files
* checking for empty or unneeded directories
* building 'SamSPECTRAL_1.4.1.tar.gz'